BEGIN:VCALENDAR
VERSION:2.0
PRODID:-//The Biletones - ECPv6.15.20//NONSGML v1.0//EN
CALSCALE:GREGORIAN
METHOD:PUBLISH
X-ORIGINAL-URL:https://www.thebiletones.com
X-WR-CALDESC:Events for The Biletones
REFRESH-INTERVAL;VALUE=DURATION:PT1H
X-Robots-Tag:noindex
X-PUBLISHED-TTL:PT1H
BEGIN:VTIMEZONE
TZID:America/Los_Angeles
BEGIN:DAYLIGHT
TZOFFSETFROM:-0800
TZOFFSETTO:-0700
TZNAME:PDT
DTSTART:20140309T100000
END:DAYLIGHT
BEGIN:STANDARD
TZOFFSETFROM:-0700
TZOFFSETTO:-0800
TZNAME:PST
DTSTART:20141102T090000
END:STANDARD
BEGIN:DAYLIGHT
TZOFFSETFROM:-0800
TZOFFSETTO:-0700
TZNAME:PDT
DTSTART:20150308T100000
END:DAYLIGHT
BEGIN:STANDARD
TZOFFSETFROM:-0700
TZOFFSETTO:-0800
TZNAME:PST
DTSTART:20151101T090000
END:STANDARD
BEGIN:DAYLIGHT
TZOFFSETFROM:-0800
TZOFFSETTO:-0700
TZNAME:PDT
DTSTART:20160313T100000
END:DAYLIGHT
BEGIN:STANDARD
TZOFFSETFROM:-0700
TZOFFSETTO:-0800
TZNAME:PST
DTSTART:20161106T090000
END:STANDARD
BEGIN:DAYLIGHT
TZOFFSETFROM:-0800
TZOFFSETTO:-0700
TZNAME:PDT
DTSTART:20170312T100000
END:DAYLIGHT
BEGIN:STANDARD
TZOFFSETFROM:-0700
TZOFFSETTO:-0800
TZNAME:PST
DTSTART:20171105T090000
END:STANDARD
BEGIN:DAYLIGHT
TZOFFSETFROM:-0800
TZOFFSETTO:-0700
TZNAME:PDT
DTSTART:20180311T100000
END:DAYLIGHT
BEGIN:STANDARD
TZOFFSETFROM:-0700
TZOFFSETTO:-0800
TZNAME:PST
DTSTART:20181104T090000
END:STANDARD
BEGIN:DAYLIGHT
TZOFFSETFROM:-0800
TZOFFSETTO:-0700
TZNAME:PDT
DTSTART:20190310T100000
END:DAYLIGHT
BEGIN:STANDARD
TZOFFSETFROM:-0700
TZOFFSETTO:-0800
TZNAME:PST
DTSTART:20191103T090000
END:STANDARD
BEGIN:DAYLIGHT
TZOFFSETFROM:-0800
TZOFFSETTO:-0700
TZNAME:PDT
DTSTART:20200308T100000
END:DAYLIGHT
BEGIN:STANDARD
TZOFFSETFROM:-0700
TZOFFSETTO:-0800
TZNAME:PST
DTSTART:20201101T090000
END:STANDARD
END:VTIMEZONE
BEGIN:VTIMEZONE
TZID:UTC
BEGIN:STANDARD
TZOFFSETFROM:+0000
TZOFFSETTO:+0000
TZNAME:UTC
DTSTART:20150101T000000
END:STANDARD
END:VTIMEZONE
BEGIN:VEVENT
DTSTART;TZID=America/Los_Angeles:20191207T190000
DTEND;TZID=America/Los_Angeles:20191207T220000
DTSTAMP:20260423T135509
CREATED:20191025T004242Z
LAST-MODIFIED:20191025T005412Z
UID:1092-1575745200-1575756000@www.thebiletones.com
SUMMARY:Monaghan's - Oakland/Montclair
DESCRIPTION:
URL:https://www.thebiletones.com/event/monaghans-oakland-montclair/
LOCATION:Monaghan’s – Oakland\, 2820 Mountain Blvd\, Oakland\, CA\, 94602
CATEGORIES:Restaurant
ATTACH;FMTTYPE=image/jpeg:https://www.thebiletones.com/wp-content/uploads/2019/10/monaghans_crop.jpg
END:VEVENT
BEGIN:VEVENT
DTSTART;TZID=UTC:20190622T193000
DTEND;TZID=UTC:20190622T223000
DTSTAMP:20260423T135509
CREATED:20190606T074627Z
LAST-MODIFIED:20190606T075742Z
UID:1042-1561231800-1561242600@www.thebiletones.com
SUMMARY:Fairway View Lounge - Sequoia Woods Country Club
DESCRIPTION:7:30 to 10:30pm on the patioNo cover; open seating; bar food available
URL:https://www.thebiletones.com/event/fairway-view-lounge-sequoia-woods-club/
LOCATION:Fairway View Lounge-Sequoia Woods Club\, 1000 Cypress Point Dr.\, Arnold\, CA\, 95223
CATEGORIES:Restaurant
ATTACH;FMTTYPE=image/jpeg:https://www.thebiletones.com/wp-content/uploads/2019/06/seqwoodsclub.jpg
END:VEVENT
BEGIN:VEVENT
DTSTART;TZID=UTC:20160922T204500
DTEND;TZID=UTC:20160922T220000
DTSTAMP:20260423T135509
CREATED:20160809T114941Z
LAST-MODIFIED:20160809T115041Z
UID:369-1474577100-1474581600@www.thebiletones.com
SUMMARY:Ashkenaz
DESCRIPTION:The annual Light the Night gig! \nAndrew Harris’ band\, “Prince’s Children” will open for us at 7:30.
URL:https://www.thebiletones.com/event/ashkenaz/
LOCATION:The Ashkenaz\, 1317 San Pablo Ave.\, Berkeley\, CA\, 94501
CATEGORIES:Bar,Restaurant
ATTACH;FMTTYPE=image/jpeg:https://www.thebiletones.com/wp-content/uploads/2014/09/ashkenaz.jpg
END:VEVENT
BEGIN:VEVENT
DTSTART;TZID=UTC:20160902T180000
DTEND;TZID=UTC:20160902T210000
DTSTAMP:20260423T135509
CREATED:20160602T061836Z
LAST-MODIFIED:20190213T045708Z
UID:359-1472839200-1472850000@www.thebiletones.com
SUMMARY:Raymond's
DESCRIPTION:
URL:https://www.thebiletones.com/event/raymonds/
LOCATION:Raymond’s\, 5400 Cazadero Hwy.\, Cazadero\, CA\, 95421\, United States
CATEGORIES:Restaurant
ATTACH;FMTTYPE=image/jpeg:https://www.thebiletones.com/wp-content/uploads/2016/06/Raymonds-e1464823279946.jpg
END:VEVENT
BEGIN:VEVENT
DTSTART;TZID=UTC:20160730T200000
DTEND;TZID=UTC:20160730T230000
DTSTAMP:20260423T135509
CREATED:20160105T034451Z
LAST-MODIFIED:20160714T221645Z
UID:306-1469908800-1469919600@www.thebiletones.com
SUMMARY:Frankie's Blue Room
DESCRIPTION:Dinner at 7PM\, show starts at 8PM\nGet Show Tickets\nOUT-OF-TOWN GUESTS: Get a special “BileTones” rate at the Chicago Marriott – Naperville \nBook Hotel Room
URL:https://www.thebiletones.com/event/frankies-blue-room-2/
LOCATION:Frankie’s Blue Room\, 16 W. Chicago Avenue\, Naperville\, IL\, 60540\, United States
CATEGORIES:Bar,Restaurant
ATTACH;FMTTYPE=image/jpeg:https://www.thebiletones.com/wp-content/uploads/2015/04/frankies-e1468508890695.jpg
END:VEVENT
BEGIN:VEVENT
DTSTART;TZID=UTC:20160727T200000
DTEND;TZID=UTC:20160727T230000
DTSTAMP:20260423T135509
CREATED:20160528T005110Z
LAST-MODIFIED:20160703T002011Z
UID:350-1469649600-1469660400@www.thebiletones.com
SUMMARY:Red Zone Annex
DESCRIPTION:
URL:https://www.thebiletones.com/event/red-zone-annex/
LOCATION:Red Zone Annex\, 1206 Regent St. \, Madison\, WI\, 53715\, United States
CATEGORIES:Bar,Restaurant
ATTACH;FMTTYPE=image/png:https://www.thebiletones.com/wp-content/uploads/2016/05/The-Annex-Logo-light-grey-1024x197-e1464371764197.png
END:VEVENT
BEGIN:VEVENT
DTSTART;TZID=UTC:20160625T200000
DTEND;TZID=UTC:20160625T230000
DTSTAMP:20260423T135509
CREATED:20160602T060422Z
LAST-MODIFIED:20160602T060505Z
UID:353-1466884800-1466895600@www.thebiletones.com
SUMMARY:The Bistro
DESCRIPTION:
URL:https://www.thebiletones.com/event/the-bistro/
LOCATION:The Bistro\, 1001 B Street\, Hayward\, CA\, 94541\, United States
CATEGORIES:Bar,Restaurant
ATTACH;FMTTYPE=image/jpeg:https://www.thebiletones.com/wp-content/uploads/2016/01/bistro.jpg
END:VEVENT
BEGIN:VEVENT
DTSTART;TZID=America/Los_Angeles:20150717T193000
DTEND;TZID=America/Los_Angeles:20150717T210000
DTSTAMP:20260423T135509
CREATED:20150509T061603Z
LAST-MODIFIED:20150509T061603Z
UID:292-1437161400-1437166800@www.thebiletones.com
SUMMARY:Chicago Loop Sports Bar & Grill
DESCRIPTION:
URL:https://www.thebiletones.com/event/chicago-loop-sports-bar-grill/
LOCATION:Chicago Loop Sports Bar & Grill\, 7 W Streamwood Blvd\, Streamwood\, IL\, 60107
CATEGORIES:Restaurant
ATTACH;FMTTYPE=image/png:https://www.thebiletones.com/wp-content/uploads/2015/05/chicago_loop_logo.png
END:VEVENT
END:VCALENDAR