BEGIN:VCALENDAR
VERSION:2.0
PRODID:-//The Biletones - ECPv6.15.20//NONSGML v1.0//EN
CALSCALE:GREGORIAN
METHOD:PUBLISH
X-WR-CALNAME:The Biletones
X-ORIGINAL-URL:https://www.thebiletones.com
X-WR-CALDESC:Events for The Biletones
REFRESH-INTERVAL;VALUE=DURATION:PT1H
X-Robots-Tag:noindex
X-PUBLISHED-TTL:PT1H
BEGIN:VTIMEZONE
TZID:UTC
BEGIN:STANDARD
TZOFFSETFROM:+0000
TZOFFSETTO:+0000
TZNAME:UTC
DTSTART:20150101T000000
END:STANDARD
END:VTIMEZONE
BEGIN:VEVENT
DTSTART;TZID=UTC:20170729T180000
DTEND;TZID=UTC:20170729T200000
DTSTAMP:20260423T140657
CREATED:20170622T011459Z
LAST-MODIFIED:20170622T011459Z
UID:721-1501351200-1501358400@www.thebiletones.com
SUMMARY:St. Theresa
DESCRIPTION:Summer Concert Series \nSaturdays\, at 6:00 – 8:00 PM on the Lawn \nBring your Picnic\, Lawn Chairs and Blankets and have a fun filled evening!
URL:https://www.thebiletones.com/event/st-theresa-2/
LOCATION:St. Theresa Lawn Concert\, 30 Mandalay Road\, Oakland\, CA\, 94618\, United States
CATEGORIES:Outdoor
END:VEVENT
BEGIN:VEVENT
DTSTART;TZID=UTC:20160723T180000
DTEND;TZID=UTC:20160723T200000
DTSTAMP:20260423T140657
CREATED:20160602T061205Z
LAST-MODIFIED:20160613T225507Z
UID:356-1469296800-1469304000@www.thebiletones.com
SUMMARY:St. Theresa's Lawn Concert
DESCRIPTION:
URL:https://www.thebiletones.com/event/st-theresa/
LOCATION:St. Theresa Lawn Concert\, 30 Mandalay Road\, Oakland\, CA\, 94618\, United States
CATEGORIES:Outdoor
ATTACH;FMTTYPE=image/gif:https://www.thebiletones.com/wp-content/uploads/2016/06/StTheresa.gif
END:VEVENT
END:VCALENDAR